BEGIN:VCALENDAR
VERSION:2.0
PRODID:-//AudioTheme 3.0.1
BEGIN:VEVENT
UID:urn:uuid:a5a4a38e-9d21-4271-90b1-558e866bc201
URL:https://yvesmariebellot.fr/shows/yves-marie-bellot-concert-au-plan-b/
DTSTART;TZID=GMT:20181006T000000
SUMMARY:Yves marie belloT - Concert au Plan B
DESCRIPTION:Concert au Plan B  Prix Libre.
LOCATION:Le Plan B\, 1 Rue de la République\, Beaurepaire\, \, France\, 38270
END:VEVENT
END:VCALENDAR
