BEGIN:VCALENDAR
VERSION:2.0
PRODID:-//AudioTheme 3.0.1
BEGIN:VEVENT
UID:urn:uuid:4a82ed8e-0913-4631-a236-c325a0957d4f
URL:https://yvesmariebellot.fr/shows/tribute-thou-cabrel/
DTSTART;TZID=GMT:20191211T000000
SUMMARY:Tribute thou Cabrel
DESCRIPTION:Tribute thou Francis Cabrel.
LOCATION:À Thou Bout d'Chant\, 2 Rue de Thou\, Lyon\, \, 69001
END:VEVENT
END:VCALENDAR
