BEGIN:VCALENDAR
VERSION:2.0
PRODID:-//AudioTheme 3.0.1
BEGIN:VEVENT
UID:urn:uuid:88aa8182-3af9-4da2-b26e-ef7a1c15431e
URL:https://yvesmariebellot.fr/shows/soiree-externe-departement-chanson/
DTSTART;VALUE=DATE:20170315
SUMMARY:Soirée externe du département Chanson.
DESCRIPTION:Soirée externe du département chanson de l'École Nationale de Musique de Villeurbanne.
LOCATION:À Thou Bout d'Chant\, 2 Rue de Thou\, Lyon\, \, 69001
END:VEVENT
END:VCALENDAR
