BEGIN:VCALENDAR
VERSION:2.0
PRODID:-//AudioTheme 3.0.1
BEGIN:VEVENT
UID:urn:uuid:d5d20161-b2e3-4b1e-a2c2-f542c48a6b60
URL:https://yvesmariebellot.fr/shows/soiree-decouverte-enm/
DTSTART;VALUE=DATE:20170607
SUMMARY:Soirée découverte ENM
DESCRIPTION:Soirée découverte ENM  Tarif : 5 / 10 €
LOCATION:Agend'Arts\, 4 rue Belfort\, Lyon\, \, 69004
END:VEVENT
END:VCALENDAR
