BEGIN:VCALENDAR
VERSION:2.0
PRODID:-//AudioTheme 3.0.1
BEGIN:VEVENT
UID:urn:uuid:f1ef73c6-7c38-425c-a738-e6d342bf0ae2
URL:https://yvesmariebellot.fr/shows/soiree-chanson-avec-caroline-ruelle-yves-marie-bellot-et-lucile/
DTSTART;TZID=GMT:20180421T000000
SUMMARY:Soirée chanson avec Caroline Ruelle, Yves marie belloT et Lucile
DESCRIPTION:Soirée chanson avec Caroline Ruelle\, Yves marie belloT et Lucile  Prix Libre
LOCATION:L'engrenage\, 27 rue Jean Prevost\, Grenoble\, \, 38000
END:VEVENT
END:VCALENDAR
