BEGIN:VCALENDAR
VERSION:2.0
PRODID:-//AudioTheme 3.0.1
BEGIN:VEVENT
UID:urn:uuid:e0837509-9c37-459f-b321-0eda3b52a270
URL:https://yvesmariebellot.fr/shows/premiere-partie-de-nathalie-miravette-2/
DTSTART;VALUE=DATE:20170211
SUMMARY:Première partie de Nathalie Miravette
DESCRIPTION:Première partie de Nathalie Miravette.  Tarif: 8euros / 12 euros.  
LOCATION:À Thou Bout d'Chant\, 2 Rue de Thou\, Lyon\, \, 69001
END:VEVENT
END:VCALENDAR
