BEGIN:VCALENDAR
VERSION:2.0
PRODID:-//AudioTheme 3.0.1
BEGIN:VEVENT
UID:urn:uuid:6cb04b3e-2b07-43c0-a90a-32b2ddff2b9b
URL:https://yvesmariebellot.fr/shows/premiere-partie-de-mpl-pauvre-lucette/
DTSTART;VALUE=DATE:20171014
SUMMARY:Première partie de MPL - Ma Pauvre Lucette
DESCRIPTION:Première partie de MPL - Ma Pauvre Lucette  Tarif: 8euros / 12 euros.
LOCATION:À Thou Bout d'Chant\, 2 Rue de Thou\, Lyon\, \, 69001
END:VEVENT
END:VCALENDAR
