BEGIN:VCALENDAR
VERSION:2.0
PRODID:-//AudioTheme 3.0.1
BEGIN:VEVENT
UID:urn:uuid:28b8dce4-b193-4f89-bfac-bc890e141cac
URL:https://yvesmariebellot.fr/shows/premiere-partie-de-liz-cherhal/
DTSTART;TZID=GMT:20180526T000000
SUMMARY:Première partie de Liz Cherhal
DESCRIPTION:Première partie de Liz Cherhal.  Tarif: 8euros / 12 euros.
LOCATION:À Thou Bout d'Chant\, 2 Rue de Thou\, Lyon\, \, 69001
END:VEVENT
END:VCALENDAR
