BEGIN:VCALENDAR
VERSION:2.0
PRODID:-//AudioTheme 3.0.1
BEGIN:VEVENT
UID:urn:uuid:dd072911-c5af-430d-b026-bcef944c489f
URL:https://yvesmariebellot.fr/shows/liz-van-deuq-yves-marie-bellot-a-la-salle-des-rancy/
DTSTART;TZID=GMT:20181012T000000
SUMMARY:Liz Van Deuq + Yves-Marie Bellot à la salle des Rancy
DESCRIPTION:Concert en co plateau avec Liz Van Deuq.  Tarif:  10 euros / 14 euros.
LOCATION:Mpt Salle des Rancy\, 249 rue Vendôme\, Lyon\, \, France\, 69003
END:VEVENT
END:VCALENDAR
