BEGIN:VCALENDAR
VERSION:2.0
PRODID:-//AudioTheme 3.0.1
BEGIN:VEVENT
UID:urn:uuid:35761159-9ec2-4673-a523-19848dc61796
URL:https://yvesmariebellot.fr/shows/les-soirees-dete-2/
DTSTART;TZID=GMT:20250810T000000
SUMMARY:Les Soirées d'été
DESCRIPTION:Concert en trio dans le cadre des Soirées d'été du Théâtre du Grand Orme​ (41)
LOCATION:Théâtre du Grand Orme​\, 1 Bis route de l'Orme\, Le Controis-en-Sologne\, \, 41120
END:VEVENT
END:VCALENDAR
