BEGIN:VCALENDAR
VERSION:2.0
PRODID:-//AudioTheme 3.0.1
BEGIN:VEVENT
UID:urn:uuid:bbf20baa-f9ea-42c7-ad68-9483b41caee1
URL:https://yvesmariebellot.fr/shows/lart-dans-les-arbres/
DTSTART;TZID=GMT:20250809T000000
SUMMARY:L'art dans les arbres
DESCRIPTION:Concert en acoustique dans les arbres\, en trio à Chalmazel (42)
LOCATION:L'art dans les arbres\, Hêtre en Forez\, Chalmazel\, \, 42920
END:VEVENT
END:VCALENDAR
