BEGIN:VCALENDAR
VERSION:2.0
PRODID:-//AudioTheme 3.0.1
BEGIN:VEVENT
UID:urn:uuid:140b6b73-9d2c-475d-bb99-e5f4d3b48d5a
URL:https://yvesmariebellot.fr/shows/invite-de-garance-a-agendart/
DTSTART;TZID=GMT:20250418T000000
SUMMARY:Invité de Garance à Agend'Art
DESCRIPTION:Invité à la carte blanche de Garance à Agend'Arts  https://agendarts.wordpress.com/2025/03/06/carte-blanche-garance/
LOCATION:Agend'Arts\, 4 rue Belfort\, Lyon\, \, 69004
END:VEVENT
END:VCALENDAR
