BEGIN:VCALENDAR
VERSION:2.0
PRODID:-//AudioTheme 3.0.1
BEGIN:VEVENT
UID:urn:uuid:c8eab314-3cd8-49c8-ad5c-3ff840b910db
URL:https://yvesmariebellot.fr/shows/gig-885/
DTSTART;TZID=GMT:20180311T000000
SUMMARY:Concert au théâtre Le Carré 30
DESCRIPTION:Concert carte blanche au théâtre Le Carré 30 dans le cadre du mois de la poésie.  Tarifs 15/10/5€
LOCATION:Le Carré 30\, 12 rue Pizay\, Lyon\, \, 69001
END:VEVENT
END:VCALENDAR
