BEGIN:VCALENDAR
VERSION:2.0
PRODID:-//AudioTheme 3.0.1
BEGIN:VEVENT
UID:urn:uuid:a4a49a10-3a5c-4ca6-bc77-d80235bcfbfe
URL:https://yvesmariebellot.fr/shows/gig-877/
DTSTART;TZID=GMT:20180203T000000
SUMMARY:L'Alternatibar - Maison des alternatives
DESCRIPTION:Organisation d'une soirée découverte chanson à L'Alternatibar - Maison des alternatives.  Prix Libre
LOCATION:L'Alternatibar - Maison des alternatives\, 126 montée de la Grande Côte\, Lyon\, \, 69001
END:VEVENT
END:VCALENDAR
