BEGIN:VCALENDAR
VERSION:2.0
PRODID:-//AudioTheme 3.0.1
BEGIN:VEVENT
UID:urn:uuid:f6333acc-54d3-4af4-8d9f-41b0918fd470
URL:https://yvesmariebellot.fr/shows/gig-840/
DTSTART;VALUE=DATE:20171215
SUMMARY:Concert au KoToPo.
DESCRIPTION:Concert en co plateau avec Hoxy More.  Prix libre.
LOCATION:KoToPo\, 14 rue Leynaud Lyon\, Lyon\, \, France\, 69001
END:VEVENT
END:VCALENDAR
