BEGIN:VCALENDAR
VERSION:2.0
PRODID:-//AudioTheme 3.0.1
BEGIN:VEVENT
UID:urn:uuid:11816935-9cde-48a6-aa03-0ddf6f1acab1
URL:https://yvesmariebellot.fr/shows/gig-1629/
DTSTART;TZID=GMT:20210605T000000
SUMMARY:Festival "Jazz à cours et à jardins"
DESCRIPTION:Concert en duo avec Angelina Pelluet pour le festival "Jazz à cours et à jardins"
LOCATION:Festival "Jazz à cours et à jardins"\, Instituto Cervantes de Lyon 58 Montée de Choulans\, Lyon\, \, 69005
END:VEVENT
END:VCALENDAR
