BEGIN:VCALENDAR
VERSION:2.0
PRODID:-//AudioTheme 3.0.1
BEGIN:VEVENT
UID:urn:uuid:e67f1a14-fd0c-41e1-9381-c0798458b761
URL:https://yvesmariebellot.fr/shows/gig-1332/
DTSTART;TZID=GMT:20200116T000000
SUMMARY:Lycée Agricole du Bourbonnais
DESCRIPTION:Intervention pédagogique autour de la problématique du développement de projet + Showcase en solo.
LOCATION:Lycée Agricole du Bourbonnais\, Neuvy\, \, 03000
END:VEVENT
END:VCALENDAR
