BEGIN:VCALENDAR
VERSION:2.0
PRODID:-//AudioTheme 3.0.1
BEGIN:VEVENT
UID:urn:uuid:2b4b7208-fec4-4aef-b502-6e4bb7de6c6c
URL:https://yvesmariebellot.fr/shows/gig-1326/
DTSTART;TZID=GMT:20200208T000000
SUMMARY:Station de Ski de Chalmazel
DESCRIPTION:Concert / showcase en solo dans le cadre de l'après-midi « Sons a ski » organisée par le théâtre des Pénitents (Montbrison )
LOCATION:Station de Ski de Chalmazel\, 5896 Route des Pistes-Jeansagnière FR\, Bois Couzan E\, Chalmazel\, \, 42920
END:VEVENT
END:VCALENDAR
