BEGIN:VCALENDAR
VERSION:2.0
PRODID:-//AudioTheme 3.0.1
BEGIN:VEVENT
UID:urn:uuid:ffd1ff8f-8765-44ff-9d8a-412de5c57baa
URL:https://yvesmariebellot.fr/shows/gig-1311/
DTSTART;TZID=GMT:20191123T000000
SUMMARY:L'Alternatibar - Maison des alternatives
DESCRIPTION:Concert Austral (duo avec Angelina Pelluet) en co-plateau avec AnneliSeRoche.  Prix libre.
LOCATION:L'Alternatibar - Maison des alternatives\, 126 montée de la Grande Côte\, Lyon\, \, 69001
END:VEVENT
END:VCALENDAR
