BEGIN:VCALENDAR
VERSION:2.0
PRODID:-//AudioTheme 3.0.1
BEGIN:VEVENT
UID:urn:uuid:ec4b9502-def4-4551-8e94-3b8cc2f87990
URL:https://yvesmariebellot.fr/shows/gig-1309/
DTSTART;TZID=GMT:20190928T000000
SUMMARY:Moulins Communauté
DESCRIPTION:Concert "L'horloge qui s'arrête" organisé par Moulins Communauté dans le cadre de la soirée spéciale "Moulins entre en scène" 
LOCATION:Moulins Communauté\, 12 place de l'Hôtel-de-Ville\, Moulins\, \, 03000
END:VEVENT
END:VCALENDAR
