BEGIN:VCALENDAR
VERSION:2.0
PRODID:-//AudioTheme 3.0.1
BEGIN:VEVENT
UID:urn:uuid:db83b51e-4775-461c-84dc-9633b6196046
URL:https://yvesmariebellot.fr/shows/gig-1051/
DTSTART;VALUE=DATE:20181021
SUMMARY:Concert à la loge
DESCRIPTION:Concert à la loge (03)   Prix Libre.  Info et réservation par mail (lartderien003@gmail.com)
LOCATION:La loge\, Route d’autre Issards\, Bourbon l’archambault\, \, 03160
END:VEVENT
END:VCALENDAR
