BEGIN:VCALENDAR
VERSION:2.0
PRODID:-//AudioTheme 3.0.1
BEGIN:VEVENT
UID:urn:uuid:5de550e3-c054-48f0-b44e-b79afaa8c5bc
URL:https://yvesmariebellot.fr/shows/gig-1049/
DTSTART;TZID=GMT:20180921T000000
SUMMARY:Mpt Salle des Rancy
DESCRIPTION:Présentation de la saison chanson.  Avec Fafapunk\, Martin Luminet\, Melba...
LOCATION:Mpt Salle des Rancy\, 249 rue Vendôme\, Lyon\, \, France\, 69003
END:VEVENT
END:VCALENDAR
