BEGIN:VCALENDAR
VERSION:2.0
PRODID:-//AudioTheme 3.0.1
BEGIN:VEVENT
UID:urn:uuid:5a02d2c6-880c-4311-87d3-d05085d525c0
URL:https://yvesmariebellot.fr/shows/concert-yves-marie-bellot-solo-annelise-roche/
DTSTART;VALUE=DATE:20201217
SUMMARY:Concert Yves marie belloT (solo) + Annelise Roche
DESCRIPTION:Concert Yves marie belloT (solo) en co-plateau AnneliSe Roche  Tarif : 5/10€  (concert reporté : covid-19)
LOCATION:Agend'Arts\, 4 rue Belfort\, Lyon\, \, 69004
END:VEVENT
END:VCALENDAR
