BEGIN:VCALENDAR
VERSION:2.0
PRODID:-//AudioTheme 3.0.1
BEGIN:VEVENT
UID:urn:uuid:6ecc6c5b-2e1b-4872-b8c6-85bdfc92bf02
URL:https://yvesmariebellot.fr/shows/concert-reves-denfant/
DTSTART;TZID=GMT:20190208T000000
SUMMARY:Concert "Rêves d'enfant"
DESCRIPTION:Co-plateau avec Frédéric Bobin.  Plein tarif : 12€ 
LOCATION:MJC du Vieux-Lyon / Salle Léo Ferré\, 5 place Saint Jean\, Lyon\, \, 69005
END:VEVENT
END:VCALENDAR
