BEGIN:VCALENDAR
VERSION:2.0
PRODID:-//AudioTheme 3.0.1
BEGIN:VEVENT
UID:urn:uuid:23bfea83-b0f4-4337-8439-6e8ce3fc2dbf
URL:https://yvesmariebellot.fr/shows/concert-prive/
DTSTART;TZID=GMT:20210811T000000
SUMMARY:Concert privé
DESCRIPTION:Concert privé - Yves Marie Bellot (solo) 
LOCATION:Concert chez l'habitant 1\, Saint Laurent de Mure\, \, 69720
END:VEVENT
END:VCALENDAR
