BEGIN:VCALENDAR
VERSION:2.0
PRODID:-//AudioTheme 3.0.1
BEGIN:VEVENT
UID:urn:uuid:e1ede8d8-db88-490e-ad8d-b03de9b85f9c
URL:https://yvesmariebellot.fr/shows/concert-pour-les-estivales-des-volcans/
DTSTART;TZID=GMT:20250731T000000
SUMMARY:concert pour les Estivales des Volcans
DESCRIPTION:concert en trio pour les Estivales des Volcans.
LOCATION:Estivales des Volcans\, Château-Dauphin\, Pontgibaud\, \, 63230
END:VEVENT
END:VCALENDAR
