BEGIN:VCALENDAR
VERSION:2.0
PRODID:-//AudioTheme 3.0.1
BEGIN:VEVENT
UID:urn:uuid:46a0d1e4-0ab6-44ed-ab89-33574a74ec9a
URL:https://yvesmariebellot.fr/shows/concert-les-pythies-yves-marie-bellot/
DTSTART;TZID=GMT:20181103T000000
SUMMARY:Concert les Pythies & Yves marie belloT
DESCRIPTION:"crash test" de nouvelles chansons \, en co-plateau avec les Pythies.  Prix libre.
LOCATION:L'Alternatibar - Maison des alternatives\, 126 montée de la Grande Côte\, Lyon\, \, 69001
END:VEVENT
END:VCALENDAR
