BEGIN:VCALENDAR
VERSION:2.0
PRODID:-//AudioTheme 3.0.1
BEGIN:VEVENT
UID:urn:uuid:af832c5f-4927-4e69-9520-59c1e8614d6f
URL:https://yvesmariebellot.fr/shows/concert-du-bout-des-levres-hommage-a-barbara/
DTSTART;TZID=GMT:20190404T000000
SUMMARY:Concert "Du bout des lèvres" (hommage à Barbara)
DESCRIPTION:Concert "Du bout des lèvres" (hommage à Barbara) dans le cadre du festival Le Tigre (festival du CEFEDEM)  Prix Libre + Adhésion (4euros)
LOCATION:La Boîte à Gants\, 6 Rue Pierre Blanc\, Lyon\, \, 69001
END:VEVENT
END:VCALENDAR
