BEGIN:VCALENDAR
VERSION:2.0
PRODID:-//AudioTheme 3.0.1
BEGIN:VEVENT
UID:urn:uuid:314b9bc9-3c99-400f-8740-01df950cd515
URL:https://yvesmariebellot.fr/shows/concert-de-sortie-du-deuxieme-album/
DTSTART;TZID=GMT:20210925T000000
SUMMARY:Concert de sortie du deuxième album
DESCRIPTION:Concert pour la sortie du deuxième album\, formule duo + pleins d'invités !    Info et réservation : https://www.billetweb.fr/yves-marie-bellot1
LOCATION:À Thou Bout d'Chant\, 2 Rue de Thou\, Lyon\, \, 69001
END:VEVENT
END:VCALENDAR
