BEGIN:VCALENDAR
VERSION:2.0
PRODID:-//AudioTheme 3.0.1
BEGIN:VEVENT
UID:urn:uuid:726d4b5d-4c17-441c-907c-5d64afdc0499
URL:https://yvesmariebellot.fr/shows/concert-co-plateau-piotki/
DTSTART;VALUE=DATE:20170406
SUMMARY:Concert en co plateau avec Piotki.
DESCRIPTION:Concert en co plateau avec Piotki.  Tarif: 8euros / 12 euros.
LOCATION:À Thou Bout d'Chant\, 2 Rue de Thou\, Lyon\, \, 69001
END:VEVENT
END:VCALENDAR
