BEGIN:VCALENDAR
VERSION:2.0
PRODID:-//AudioTheme 3.0.1
BEGIN:VEVENT
UID:urn:uuid:d6fc8032-a6a8-4380-8482-5160f0d6dc9d
URL:https://yvesmariebellot.fr/shows/concert-chez-nathalie-et-philippe/
DTSTART;TZID=GMT:20250913T000000
SUMMARY:Concert chez Nathalie et Philippe
DESCRIPTION:Concert en solo chez Nathalie et Philippe à Oyonnax (01)  Inscription via ce lien : https://framaforms.org/concert-a-la-maison-a-bouvent-samedi-13092025-yves-marie-bellot-1756283773
LOCATION:Chez Nathalie et Philippe\, Bouvent\, Oyonnax\, \, 01055
END:VEVENT
END:VCALENDAR
