BEGIN:VCALENDAR
VERSION:2.0
PRODID:-//AudioTheme 3.0.1
BEGIN:VEVENT
UID:urn:uuid:90963127-53af-4d2d-bc2e-976f2ca55f12
URL:https://yvesmariebellot.fr/shows/concert-cafe-lecture-augustes/
DTSTART;TZID=GMT:20180217T000000
SUMMARY:Concert au café lecture Les Augustes.
DESCRIPTION:Concert au café lecture Les Augustes.  Prix libre.
LOCATION:Les Augustes - Café Lecture\, 5 rue sous les augustins\, Clermont-Ferrand\, \, 63000
END:VEVENT
END:VCALENDAR
