BEGIN:VCALENDAR
VERSION:2.0
PRODID:-//AudioTheme 3.0.1
BEGIN:VEVENT
UID:urn:uuid:d509b76c-2460-4844-ad79-f5aa53c7e8c2
URL:https://yvesmariebellot.fr/shows/concert-bout-levres/
DTSTART;TZID=GMT:20180120T000000
SUMMARY:Concert "Du bout des lèvres"
DESCRIPTION:Concert "Du bout des lèvres (hommage à Barbara)" à l'occasion de la nuit de la médiathèque.
LOCATION:Médiathèque de MOULINS COMMUNAUTÉ\, 8 place Maréchal de Lattre de Tassigny\, Moulins\, \, 03016
END:VEVENT
END:VCALENDAR
