BEGIN:VCALENDAR
VERSION:2.0
PRODID:-//AudioTheme 3.0.1
BEGIN:VEVENT
UID:urn:uuid:1d0f035c-f0c1-4c06-b12a-6cbe8e7909ba
URL:https://yvesmariebellot.fr/shows/concert-aux-soirees-de-chareron/
DTSTART;TZID=GMT:20210803T000000
SUMMARY:Concert aux soirées de Chareron
DESCRIPTION:Concert Yves marie belloT (solo) + La Gammine.  Plein tarif : 12 € — Tarif réduit : 8 €  Billetterie : https://soireesdechazeron.com/billetterie-reservations/  
LOCATION:Soirées de Chazeron\, Château de Chazeron\, Loubeyrat\, \, 63410
END:VEVENT
END:VCALENDAR
