BEGIN:VCALENDAR
VERSION:2.0
PRODID:-//AudioTheme 3.0.1
BEGIN:VEVENT
UID:urn:uuid:2107a536-e1e0-40c5-9c05-4c146ba11dae
URL:https://yvesmariebellot.fr/shows/concert-aux-bons-sauvages/
DTSTART;VALUE=DATE:20170630
SUMMARY:Concert Aux Bons Sauvages
DESCRIPTION:Concert en co plateau avec Lucarne.
LOCATION:Aux Bons Sauvages\, 2 quai Jean Jacques Rousseau\, La Mulatière\, \, 69350
END:VEVENT
END:VCALENDAR
