BEGIN:VCALENDAR
VERSION:2.0
PRODID:-//AudioTheme 3.0.1
BEGIN:VEVENT
UID:urn:uuid:fc2c27ba-9590-45f5-b647-b68469fa4a7a
URL:https://yvesmariebellot.fr/shows/concert-austral/
DTSTART;TZID=GMT:20191130T000000
SUMMARY:Concert Austral
DESCRIPTION:Concert Austral (duo avec Angelina Pelluet) en première partie d'Emile Bilodeau.  Tarif : 10 / 14 euros.
LOCATION:Mpt Salle des Rancy\, 249 rue Vendôme\, Lyon\, \, France\, 69003
END:VEVENT
END:VCALENDAR
