BEGIN:VCALENDAR
VERSION:2.0
PRODID:-//AudioTheme 3.0.1
BEGIN:VEVENT
UID:urn:uuid:59190b4a-35c8-4bda-9ea3-ed89c3700992
URL:https://yvesmariebellot.fr/shows/concert-au-qg/
DTSTART;TZID=GMT:20230701T000000
SUMMARY:Concert au QG
DESCRIPTION:Concert au QG - Quartier Gessien -Ornex (01) en duo avec Clément.
LOCATION:QG - Quartier Gessien\, 308 Rue de Perruet\, Ornex\, \, 01210
END:VEVENT
END:VCALENDAR
