BEGIN:VCALENDAR
VERSION:2.0
PRODID:-//AudioTheme 3.0.1
BEGIN:VEVENT
UID:urn:uuid:aae00525-3f96-4af4-8bfc-641fba14886a
URL:https://yvesmariebellot.fr/shows/concert-au-melville/
DTSTART;TZID=GMT:20200318T000000
SUMMARY:Concert au Melville
DESCRIPTION:Concert au Melville pour les Stardust Folk Party en coplateau avec Honeybear  (concert reporté : covid-19)
LOCATION:Melville\, 20 RUE SAINT GEORGES\, Lyon\, \, 69
END:VEVENT
END:VCALENDAR
