BEGIN:VCALENDAR
VERSION:2.0
PRODID:-//AudioTheme 3.0.1
BEGIN:VEVENT
UID:urn:uuid:25309008-f31b-4c8a-8f26-acbbf73ca829
URL:https://yvesmariebellot.fr/shows/concert-au-melville-3/
DTSTART;TZID=GMT:20221020T000000
SUMMARY:Concert au Melville
DESCRIPTION:Concert au Melville en duo avec Jimmy.  Prix libre
LOCATION:Melville\, 20 RUE SAINT GEORGES\, Lyon\, \, 69
END:VEVENT
END:VCALENDAR
