BEGIN:VCALENDAR
VERSION:2.0
PRODID:-//AudioTheme 3.0.1
BEGIN:VEVENT
UID:urn:uuid:6bd4345a-60cf-4dc9-9b51-ea197fb0dfc7
URL:https://yvesmariebellot.fr/shows/concert-au-kiosk-art-ch/
DTSTART;TZID=GMT:20230702T000000
SUMMARY:Concert au Kiosk Art (ch)
DESCRIPTION:Concert au Kiosk Art - Neuchâtel (ch) en duo avec Clément.
LOCATION:Kiosk Art\, Rue du musée 4 2000 Neuchâtel\, Neuchâtel\, \, Suisse\, 2000
END:VEVENT
END:VCALENDAR
