BEGIN:VCALENDAR
VERSION:2.0
PRODID:-//AudioTheme 3.0.1
BEGIN:VEVENT
UID:urn:uuid:3594e97d-3e67-424e-bc30-a6f5e4c011de
URL:https://yvesmariebellot.fr/shows/concert-au-grand-air/
DTSTART;TZID=GMT:20230322T000000
SUMMARY:Concert au Grand Air
DESCRIPTION:Concert au Grand Air en duo avec Angelina Pelluet
LOCATION:Au Grand Air\, 1310 Rte de Marmont\, Vonnas\, \, 01540
END:VEVENT
END:VCALENDAR
