BEGIN:VCALENDAR
VERSION:2.0
PRODID:-//AudioTheme 3.0.1
BEGIN:VEVENT
UID:urn:uuid:c80600a2-fdce-494e-b1eb-c0ff7cf18e40
URL:https://yvesmariebellot.fr/shows/concert-au-domaine-de-dony-2/
DTSTART;TZID=GMT:20250425T000000
SUMMARY:concert au domaine de Dony
DESCRIPTION:Concert en solo au domaine de Dony.  (reporté : nouvelle date à venir prochainement)
LOCATION:Domaine de Dony\, 146\, Chemin de Dony\, BALBINS\, \, 38260
END:VEVENT
END:VCALENDAR
