BEGIN:VCALENDAR
VERSION:2.0
PRODID:-//AudioTheme 3.0.1
BEGIN:VEVENT
UID:urn:uuid:3c5d9d21-443e-47eb-8eef-d9ce6fd8b85b
URL:https://yvesmariebellot.fr/shows/concert-au-colibri/
DTSTART;TZID=GMT:20211106T000000
SUMMARY:Concert au colibri
DESCRIPTION:Concert au colibri dans le cadre de la tournée "solo mais en co plateau" avec La Gammine.
LOCATION:Le colibri\, Place de la Mairie\, Saint-Germain-l'Herm\, \, 63630
END:VEVENT
END:VCALENDAR
