BEGIN:VCALENDAR
VERSION:2.0
PRODID:-//AudioTheme 3.0.1
BEGIN:VEVENT
UID:urn:uuid:5cbdb5f9-788e-4cc5-b946-2a0049ebd3c1
URL:https://yvesmariebellot.fr/shows/concert-au-chateau-de-pomay/
DTSTART;TZID=GMT:20220918T000000
SUMMARY:Concert au Château de Pomay
DESCRIPTION:Concert au Château de Pomay dans le cadre des Journées Européennes du Patrimoine - Duo   Réservation via ce lien 👉 https://www.cityvent.com/events/t2ae3jwf/
LOCATION:Chateau de Pomay\, Lusigny\, \, 03230
END:VEVENT
END:VCALENDAR
