BEGIN:VCALENDAR
VERSION:2.0
PRODID:-//AudioTheme 3.0.1
BEGIN:VEVENT
UID:urn:uuid:7c3b8f06-e9bd-4f5f-8ee9-91f7eaccea6e
URL:https://yvesmariebellot.fr/shows/concert-au-caquetoire-4/
DTSTART;TZID=GMT:20230421T000000
SUMMARY:Concert au Caquetoire
DESCRIPTION:Concert au Caquetoire en duo avec Angelina Pelluet
LOCATION:Le Caquetoire\, 78 place Yves-Déret\, Dompierre-sur-Besbre\, \, 03290
END:VEVENT
END:VCALENDAR
