BEGIN:VCALENDAR
VERSION:2.0
PRODID:-//AudioTheme 3.0.1
BEGIN:VEVENT
UID:urn:uuid:b11c28c8-dfc0-4b2f-b82e-99f4a8699754
URL:https://yvesmariebellot.fr/shows/concert-au-caquetoire-2/
DTSTART;VALUE=DATE:20210219
SUMMARY:Concert au Caquetoire
DESCRIPTION:Concert Yves marie belloT (solo) + La Gammine  Prix libre.  (concert reporté : covid-19)
LOCATION:Le Caquetoire\, 78 place Yves-Déret\, Dompierre-sur-Besbre\, \, 03290
END:VEVENT
END:VCALENDAR
