BEGIN:VCALENDAR
VERSION:2.0
PRODID:-//AudioTheme 3.0.1
BEGIN:VEVENT
UID:urn:uuid:62273ec2-0120-45a0-8cb8-c304f6ebf402
URL:https://yvesmariebellot.fr/shows/concert-au-bruit-qui-court/
DTSTART;TZID=GMT:20190126T000000
SUMMARY:Concert au bruit qui court
DESCRIPTION:Co-plateau avec Lucile.  Prix libre.
LOCATION:Le Bruit Qui Court\, 87\, rue Sainte Rose\, Chambéry\, \, 73000
END:VEVENT
END:VCALENDAR
