BEGIN:VCALENDAR
VERSION:2.0
PRODID:-//AudioTheme 3.0.1
BEGIN:VEVENT
UID:urn:uuid:0efddeca-401b-4ccb-b0d4-f8393f5ef6b8
URL:https://yvesmariebellot.fr/shows/concert-au-bistrot-culture/
DTSTART;VALUE=DATE:
SUMMARY:Concert au Bistrot Culture
DESCRIPTION:Concert Yves marie belloT (solo) au Bistrot Culture.  Prix libre
LOCATION:Bistrot Culture\, 1\, Rue de L' Horloge\, Ainay-le-Château\, \, 03360
END:VEVENT
END:VCALENDAR
