BEGIN:VCALENDAR
VERSION:2.0
PRODID:-//AudioTheme 3.0.1
BEGIN:VEVENT
UID:urn:uuid:d182f00d-d953-451a-9b79-6140e33785fb
URL:https://yvesmariebellot.fr/shows/concert-au-bistrot-culture-2/
DTSTART;TZID=GMT:20220129T000000
SUMMARY:Concert au Bistrot Culture
DESCRIPTION:Concert au Bistrot Culture (duo).
LOCATION:Bistrot Culture\, 1\, Rue de L' Horloge\, Ainay-le-Château\, \, 03360
END:VEVENT
END:VCALENDAR
