BEGIN:VCALENDAR
VERSION:2.0
PRODID:-//AudioTheme 3.0.1
BEGIN:VEVENT
UID:urn:uuid:0165d056-ee0b-4b94-a470-910918a1bcd1
URL:https://yvesmariebellot.fr/shows/concert-au-bacchus-pool/
DTSTART;TZID=GMT:20231209T000000
SUMMARY:Concert au Bacchus & Pool
DESCRIPTION:Concert au Bacchus & Pool- Vienne (38) avec le projet Côté Folk (reprises chanson Française)
LOCATION:Bacchus n' Pool\, 5 Rue Voltaire\, Vienne\, \, 38200
END:VEVENT
END:VCALENDAR
